BEGIN:VCALENDAR
VERSION:2.0
PRODID:icalendar-ruby
CALSCALE:GREGORIAN
METHOD:PUBLISH
BEGIN:VEVENT
DTSTAMP:20260421T140849Z
UID:107-211229@cormbloomington.com
DTSTART:20260514T013000Z
DTEND:20260514T023000Z
CLASS:PUBLIC
CREATED:20260420T081425
DESCRIPTION:Join us as we gather in the Park for worship and Bible Study! B
 ring your chairs\, bring a friend\, and let's enjoy the weather and fellow
 ship with one another! 
LAST-MODIFIED:20260420T081425
LOCATION:McGraw Park (weather permitting) 
SUMMARY:Bible Study at McGraw Park
URL;VALUE=URI:https://cormbloomington.com/events/bible-study-at-mcgraw-park
 /2026-05-13
ATTACH;FILENAME=bible-park-bench.jpg;FMTTYPE=image/jpeg:https://dq5pwpg1q8r
 u0.cloudfront.net/2026/03/31/15/18/35/5be52d76-2c7d-4528-9d9f-acaea79b0251
 /bible-park-bench.jpg
END:VEVENT
END:VCALENDAR
